BEGIN:VCALENDAR
VERSION:2.0
PRODID:-//ROBEforFamily.org - ECPv6.15.18//NONSGML v1.0//EN
CALSCALE:GREGORIAN
METHOD:PUBLISH
X-WR-CALNAME:ROBEforFamily.org
X-ORIGINAL-URL:https://robeforfamily.org
X-WR-CALDESC:Events for ROBEforFamily.org
REFRESH-INTERVAL;VALUE=DURATION:PT1H
X-Robots-Tag:noindex
X-PUBLISHED-TTL:PT1H
BEGIN:VTIMEZONE
TZID:UTC
BEGIN:STANDARD
TZOFFSETFROM:+0000
TZOFFSETTO:+0000
TZNAME:UTC
DTSTART:20230101T000000
END:STANDARD
END:VTIMEZONE
BEGIN:VEVENT
DTSTART;TZID=UTC:20240523T180000
DTEND;TZID=UTC:20240523T190000
DTSTAMP:20260422T095348
CREATED:20240312T212845Z
LAST-MODIFIED:20240426T230945Z
UID:217-1716487200-1716490800@robeforfamily.org
SUMMARY:Boy\, Man\, Father
DESCRIPTION:
URL:https://robeforfamily.org/event/boy-man-father-may-2024/
LOCATION:Online
CATEGORIES:Community
ATTACH;FMTTYPE=image/png:https://robeforfamily.org/wp-content/uploads/2024/02/ROBE5.png
END:VEVENT
END:VCALENDAR