BEGIN:VCALENDAR
VERSION:2.0
PRODID:-//ROBEforFamily.org - ECPv6.15.18//NONSGML v1.0//EN
CALSCALE:GREGORIAN
METHOD:PUBLISH
X-ORIGINAL-URL:https://robeforfamily.org
X-WR-CALDESC:Events for ROBEforFamily.org
REFRESH-INTERVAL;VALUE=DURATION:PT1H
X-Robots-Tag:noindex
X-PUBLISHED-TTL:PT1H
BEGIN:VTIMEZONE
TZID:UTC
BEGIN:STANDARD
TZOFFSETFROM:+0000
TZOFFSETTO:+0000
TZNAME:UTC
DTSTART:20230101T000000
END:STANDARD
END:VTIMEZONE
BEGIN:VEVENT
DTSTART;TZID=UTC:20240822T180000
DTEND;TZID=UTC:20240822T190000
DTSTAMP:20260422T070852
CREATED:20240712T220618Z
LAST-MODIFIED:20240712T220618Z
UID:296-1724349600-1724353200@robeforfamily.org
SUMMARY:Boy\, Man\, Father
DESCRIPTION:Click here to register.
URL:https://robeforfamily.org/event/boy-man-father-aug-2024/
LOCATION:Online
CATEGORIES:Community
ATTACH;FMTTYPE=image/png:https://robeforfamily.org/wp-content/uploads/2024/02/4-3-1.png
END:VEVENT
END:VCALENDAR